BEGIN:VCALENDAR
VERSION:2.0
PRODID:-//Michigan Street CIA - ECPv6.2.0.1//NONSGML v1.0//EN
CALSCALE:GREGORIAN
METHOD:PUBLISH
X-WR-CALNAME:Michigan Street CIA
X-ORIGINAL-URL:https://mistreet.org
X-WR-CALDESC:Events for Michigan Street CIA
REFRESH-INTERVAL;VALUE=DURATION:PT1H
X-Robots-Tag:noindex
X-PUBLISHED-TTL:PT1H
BEGIN:VTIMEZONE
TZID:UTC
BEGIN:STANDARD
TZOFFSETFROM:+0000
TZOFFSETTO:+0000
TZNAME:UTC
DTSTART:20220101T000000
END:STANDARD
END:VTIMEZONE
BEGIN:VEVENT
DTSTART;TZID=UTC:20220724T103000
DTEND;TZID=UTC:20220724T160000
DTSTAMP:20260422T130927
CREATED:20220713T230618Z
LAST-MODIFIED:20220713T230618Z
UID:1718-1658658600-1658678400@mistreet.org
SUMMARY:MI Drag Brunch: 7 Monks Taproom
DESCRIPTION:MI Drag Brunch proudly partners with 7 Monks Taproom!
URL:https://mistreet.org/event/mi-drag-brunch-7-monks-taproom/
LOCATION:7 Monks Taproom\, 740 Michigan St NE\, Grand Rapids\, Michigan\, 49503
ATTACH;FMTTYPE=image/jpeg:https://mistreet.org/wp-content/uploads/2022/07/286514513_1463810864056797_6474301471444481798_n.jpg
END:VEVENT
END:VCALENDAR